{"text_format":"1","workbook":"xlsx","n_sheets":2,"sheets":["B","Water Content"],"not_rendered":{"charts":1,"images":1,"macros":0,"external_links":0,"defined_names":7,"comments":0,"pivot_tables":0},"unopened":[],"bounds":{"document_bytes":16777216,"sheet_cells":100000,"rows_first":2000,"rows_last":500,"rows_between":2000,"halvings":0,"cell_chars":16384,"cell_head_chars":4096},"cells_cut":0,"cells_raw":0,"read":"whole","date_system":"1900"}

{"sheet":"B","index":0,"n_rows":76,"n_cols":14,"rows_kept":76,"cut":false,"hidden":false,"merged":[[35,1,38,4],[5,1,6,14],[28,1,29,1],[28,2,29,2],[28,3,29,3],[28,4,29,4],[19,1,20,1],[19,2,20,2],[19,3,20,3],[19,4,20,4]]}
[]
[]
[]
[]
[]
[null,"The following performances are based on information received and are to be used for guidance only, When comparing the performance of different drying methods"]
[]
[]
[null,"Capacity (FAD)",null,null,null,null,"Capacity",1332,"cfm",{"$f":"+H9*0.472","v":628.70399999999995},"Litres/ Sec",null,{"$f":"+H9*1.6992","v":2263.3344000000002},"M3/Hour"]
[null,"Pressure (g)",null,null,null,null,null,102,"psi (g)",{"$f":"H10/14.5","v":7.0344827586206895},"bar (g)"]
[null,"Ambient Temperature",null,null,null,null,null,0,"°F",{"$f":"(H11-32) *(5/9)","v":-17.777777777777779},"°C"]
[null,"Load Factor",null,70,{"$f":"+D12/100","v":0.7},null,"Air Usage",{"$f":"H9*E12","v":932.4},"cfm",{"$f":"+H12*0.472","v":440.09279999999995},"Litres/ Sec",null,{"$f":"+H12*1.6992","v":1584.3340800000001},"M3/Hour"]
[null,"Weekly Hours",null,null,83]
[null,"Weeks Per Annum",null,null,46,null,"Annual operating hours",null,{"$f":"+E13*E14","v":3818}]
[null,"Relative Humidity",null,66,{"$f":"D15/100","v":0.66}]
[]
[null,"Water Remaining in Compressed Air"]
[]
[null,"Imperial Units"]
[null,"Drying Method","Dewpoint ","Gallons               Week","Gallons         Annum"]
[]
[null,"No Treatment",{"$f":"VLOOKUP(VLOOKUP(H11,'Water Content'!B3:C213,2)*(J10+1)*E15,'Water Content'!C3:E213,3)","v":35.6},{"$f":"IF(C22<'Water Content'!L4,'Water Content'!L3*0.22,(VLOOKUP('Water Content'!L4,'Water Content'!A3:C213,3)/1000)*0.22*(M9/(J10+1))*E12*E13)","v":20.2386469379564},{"$f":"D22*E14","v":930.97775914599436}]
[null,"After Cooler",{"$f":"H11+18","v":18},{"$f":"((VLOOKUP(C23,'Water Content'!$B$3:$C$213,2)/1000)*(($H$12*1.69811)*$E$13)/(($H$10+14.5)/14.5))*0.22","v":9.1144124091563246},{"$f":"D23*E14","v":419.26297082119095}]
[null,"Deliquescent",{"$f":"C23-11","v":7},{"$f":"((VLOOKUP(C24,'Water Content'!$B$3:$C$213,2)/1000)*(($H$12*1.69811)*$E$13)/(($H$10+14.5)/14.5))*0.22","v":5.4532075895345944},{"$f":"D24*E14","v":250.84754911859133}]
[null,"Refrigerant",37,{"$f":"((VLOOKUP(C25,'Water Content'!$B$3:$C$213,2)/1000)*(($H$12*1.69811)*$E$13)/(($H$10+14.5)/14.5))*0.22","v":20.007723110163425},{"$f":"D25*E14","v":920.35526306751763}]
[null,"Desiccant",-40,{"$f":"((VLOOKUP(C26,'Water Content'!$B$3:$C$213,2)/1000)*(($H$12*1.69811)*$E$13)/(($H$10+14.5)/14.5))*0.22","v":0.42944156771555259},{"$f":"D26*E14","v":19.754312114915418}]
[]
[null,"Metric Units"]
[null,"Drying Method","Dewpoint ","Litres                Week","Litres          Annum"]
[]
[null,"No Treatment",{"$f":"5/9*(C22-32)","v":2.0000000000000009},{"$f":"D22/0.22","v":91.993849717983636},{"$f":"D31*$E$14","v":4231.7170870272475}]
[null,"After Cooler",{"$f":"J11+10","v":-7.7777777777777786},{"$f":"D23/0.22","v":41.429147314346928},{"$f":"D32*$E$14","v":1905.7407764599586}]
[null,"Deliquescent",{"$f":"C32-11","v":-18.777777777777779},{"$f":"D24/0.22","v":24.787307225157246},{"$f":"D33*$E$14","v":1140.2161323572334}]
[null,"Refrigerant",3,{"$f":"D25/0.22","v":90.944195955288293},{"$f":"D34*$E$14","v":4183.4330139432614}]
[null,"Desiccant",-40,{"$f":"D26/0.22","v":1.9520071259797844},{"$f":"D35*$E$14","v":89.792327795070079}]
[null," NOTE MOISTURE VAPOUR WILL NOT SEPARATE INTO WATER DROPLETS UNLESS THE AMBIENT TEMPERATURE IS LESS THAN STATED DEWPOINT TEMPERATURE"]
[]
[]
[]
[]
[null,null,null," "]
[]
[]
[]
[]
[]
[]
[]
[]
[]
[]
[]
[]
[]
[]
[]
[]
[]
[]
[]
[]
[]
[]
[]
[]
[]
[]
[]
[]
[]
[]
[]
[]
[]
[]
[{"$f":"D22","v":20.2386469379564}]

{"sheet":"Water Content","index":1,"n_rows":213,"n_cols":12,"rows_kept":213,"cut":false,"hidden":false,"merged":[]}
["Dewpoint","Dewpoint","Ammount of","Dewpoint","Dewpoint"]
["°C","°F","gr/m³","°C","°F"]
[-70,{"$f":"32+((9/5)*A3)","v":-94},2.7918884696607671E-3,-70,{"$f":"32+((9/5)*D3)","v":-94},null,"Volume of water contained within incoming air",null,null,null,null,{"$f":"B!E15*(VLOOKUP(B!H11,B3:C213,2)/1000)*(B!H12*1.698)*B!E13","v":91.993849717983636}]
[-69,{"$f":"32+((9/5)*A4)","v":-92.2},3.2212278062503721E-3,-69,{"$f":"32+((9/5)*D4)","v":-92.2},null,"Air temperature before after cooler",null,null,null,null,{"$f":"B!H11+162","v":162}]
[-68,-90.4,3.7119265861059129E-3,-68,-90.4]
[-67,-88.600000000000009,4.2715079896137129E-3,-67,-88.600000000000009]
[-66,-86.8,4.9083968346703699E-3,-66,-86.8]
[-65,-85,5.6329398819645899E-3,-65,-85]
[-64,-83.2,6.4552858680570688E-3,-64,-83.2]
[-63,-81.400000000000006,7.3884863871859982E-3,-63,-81.400000000000006]
[-62,-79.600000000000009,8.4463727743915584E-3,-62,-79.600000000000009]
[-61,-77.8,9.6425153961282734E-3,-61,-77.8]
[-60,-76,1.0989212256634738E-2,-60,-76]
[-59,-74.2,1.2517774023795924E-2,-59,-74.2]
[-58,-72.400000000000006,1.4243808026128769E-2,-58,-72.400000000000006]
[-57,-70.600000000000009,1.6174605468060172E-2,-57,-70.600000000000009]
[-56,-68.8,1.8357273695165387E-2,-56,-68.8]
[-55,-67,2.0798288416188467E-2,-55,-67]
[-54,-65.2,2.35534891822189E-2,-54,-65.2]
[-53,-63.400000000000006,2.6628443078378059E-2,-53,-63.400000000000006]
[-52,-61.600000000000009,3.0077650746204252E-3,-52,-61.600000000000009]
[-51,-59.8,3.39351054565619E-2,-51,-59.8]
[-50,-58,3.8243909645240361E-2,-50,-58]
[-49,-56.2,4.3046396061675651E-2,-49,-56.2]
[-48,-54.400000000000006,4.8413042431247895E-2,-48,-54.400000000000006]
[-47,-52.600000000000009,5.4384309393112923E-2,-47,-52.600000000000009]
[-46,-50.8,6.1038135229114998E-2,-46,-50.8]
[-45,-49,6.8422573555692437E-2,-45,-49]
[-44,-47.2,7.6632159953662959E-2,-44,-47.2]
[-43,-45.400000000000006,8.5731516556416199E-2,-43,-45.400000000000006]
[-42,-43.600000000000009,9.5793528823437807E-2,-42,-43.600000000000009]
[-41,-41.8,0.10696456063255759,-41,-41.8]
[-40,-40,0.11934195423147688,-40,-40]
[-39,-38.200000000000003,0.1330028638221096,-39,-38.200000000000003]
[-38,-36.400000000000006,0.14811535659279343,-38,-36.400000000000006]
[-37,-34.600000000000009,0.16475281567521105,-37,-34.600000000000009]
[-36,-32.799999999999997,0.18307883363602612,-36,-32.799999999999997]
[-35,-31,0.20334531732068642,-35,-31]
[-34,-29.200000000000003,0.2256185921327305,-34,-29.200000000000003]
[-33,-27.4,0.25005418292154308,-33,-27.4]
[-32,-25.6,0.27689496337144576,-32,-25.6]
[-31,-23.800000000000004,0.30637979272569654,-31,-23.800000000000004]
[-30,-22,0.33874359838815843,-30,-22]
[-29,-20.200000000000003,0.37421745649377874,-29,-20.200000000000003]
[-28,-18.399999999999999,0.41302867050591369,-28,-18.399999999999999]
[-27,-16.600000000000001,0.45548895020809771,-27,-16.600000000000001]
[-26,-14.800000000000004,0.50190495745214792,-26,-14.800000000000004]
[-25,-13,0.55257840793098145,-25,-13]
[-24,-11.200000000000003,0.60798025217471541,-24,-11.200000000000003]
[-23,-9.3999999999999986,0.66831382748157786,-23,-9.3999999999999986]
[-22,-7.6000000000000014,0.73412461985607635,-22,-7.6000000000000014]
[-21,-5.8000000000000043,0.80586345215734045,-21,-5.8000000000000043]
[-20,-4,0.88405968430845461,-20,-4]
[-19,-2.2000000000000028,0.96846639293625369,-19,-2.2000000000000028]
[-18,-0.39999999999999858,1.0607103699737372,-18,-0.39999999999999858]
[-17,1.3999999999999986,1.1606997724317296,-17,1.3999999999999986]
[-16,3.1999999999999993,1.2700308146918784,-16,3.1999999999999993]
[-15,5,1.3877548277403118,-15,5]
[-14,6.8000000000000007,1.515448199453401,-14,6.8000000000000007]
[-13,8.5999999999999979,1.6538294821779866,-13,8.5999999999999979]
[-12,10.399999999999999,1.8036062159644064,-12,10.399999999999999]
[-11,12.2,1.9654751387248237,-11,12.2]
[-10,14,2.1401223915970737,-10,14]
[-9,15.8,2.3290446729978593,-9,15.8]
[-8,17.600000000000001,2.5328982342501494,-8,17.600000000000001]
[-7,19.399999999999999,2.7531442390110517,-7,19.399999999999999]
[-6,21.2,2.9912219608454325,-6,21.2]
[-5,{"$f":"32+((9/5)*A68)","v":23},3.2469317909800797,-5,{"$f":"32+((9/5)*D68)","v":23}]
[-4,24.8,3.5224941708039057,-4,24.8]
[-3,26.6,3.8184912263802593,-3,26.6]
[-2,28.4,4.1370959873447894,-2,28.4]
[-1,30.2,4.4804495270149678,-1,30.2]
[0,32,4.8490737697499728,0,32]
[1,33.799999999999997,5.1936505525867007,1,33.799999999999997]
[2,35.6,5.5601528943531546,2,35.6]
[3,37.4,5.94834247375662,3,37.4]
[4,39.200000000000003,6.360331685546579,4,39.200000000000003]
[5,41,6.797422919921539,5,41]
[6,42.8,7.2608998948191035,6,42.8]
[7,44.6,7.7481577806675332,7,44.6]
[8,46.4,8.2681981344106674,8,46.4]
[9,48.2,8.8152923418396689,9,48.2]
[10,50,9.3968119764551279,10,50]
[11,51.8,10.012393389378316,11,51.8]
[12,53.6,10.661678035574415,12,53.6]
[13,55.400000000000006,11.344312384624478,13,55.400000000000006]
[14,57.2,12.067499460058693,14,57.2]
[15,59,12.823291431874008,15,59]
[16,60.8,13.626348573545537,16,60.8]
[17,62.6,14.476181935040282,17,62.6]
[18,64.400000000000006,15.364861463020809,18,64.400000000000006]
[19,66.2,16.299410371056524,19,66.2]
[20,68,17.28897508843097,20,68]
[21,69.800000000000011,18.326359585880297,21,69.800000000000011]
[22,71.599999999999994,19.417689713693768,22,71.599999999999994]
[23,73.400000000000006,20.564615330545109,23,73.400000000000006]
[24,75.2,21.768764074789217,24,75.2]
[25,77,23.033923599898763,25,77]
[26,78.800000000000011,24.360931467846147,26,78.800000000000011]
[27,80.599999999999994,25.754226267880362,27,80.599999999999994]
[28,82.4,27.214587410553179,28,82.4]
[29,84.2,28.745654601457701,29,84.2]
[30,86,30.349588925082369,30,86]
[31,87.800000000000011,32.029948896949783,31,87.800000000000011]
[32,89.6,33.789535767834174,32,89.6]
[33,91.4,35.631114170852562,33,91.4]
[34,93.2,37.557412717843583,34,93.2]
[35,95,39.572531932739999,35,95]
[36,96.8,41.678415067130707,36,96.8]
[37,98.600000000000009,43.879077701805166,37,98.600000000000009]
[38,100.4,46.17848377021145,38,100.4]
[39,102.2,48.579851733297772,39,102.2]
[40,104,51.08566648801883,40,104]
[41,105.8,53.699761733190869,41,105.8]
[42,107.60000000000001,56.432802856730035,42,107.60000000000001]
[43,109.4,59.27200100958558,43,109.4]
[44,111.2,62.236862436228243,44,111.2]
[45,113,65.333017095904466,45,113]
[46,114.8,68.552436159269931,46,114.8]
[47,116.60000000000001,71.927828348504548,47,116.60000000000001]
[48,118.4,75.417225375296908,48,118.4]
[49,120.2,79.019565082775358,49,120.2]
[50,122,82.800898060955959,50,122]
[51,123.8,86.759566964739605,51,123.8]
[52,125.60000000000001,90.827248174452322,52,125.60000000000001]
[53,127.4,95.069420621687527,53,127.4]
[54,129.19999999999999,99.484483469403727,54,129.19999999999999]
[55,131,104.07085540296237,55,131]
[56,132.80000000000001,108.82697433343476,56,132.80000000000001]
[57,134.60000000000002,113.75129710630361,57,134.60000000000002]
[58,136.4,118.8422992154444,58,136.4]
[59,{"$f":"32+((9/5)*A132)","v":138.19999999999999},124.16375515064159,59,{"$f":"32+((9/5)*D132)","v":138.19999999999999}]
[60,140,129.64850416085787,60,140]
[61,141.80000000000001,135.35996926822557,61,141.80000000000001]
[62,143.60000000000002,141.29612017933738,62,143.60000000000002]
[63,145.4,147.39044729291803,63,145.4]
[64,147.19999999999999,153.7701666583061,64,147.19999999999999]
[65,149,160.3686234075351,65,149]
[66,150.80000000000001,167.18388181154444,66,150.80000000000001]
[67,152.60000000000002,174.21402891455671,67,152.60000000000002]
[68,154.4,181.52073187938788,68,154.4]
[69,156.19999999999999,189.10156477742541,69,156.19999999999999]
[70,158,196.89094289025294,70,158]
[{"$f":"A143+1","v":71},159.80000000000001,205.72319999999999,{"$f":"D143+1","v":71},159.80000000000001]
[{"$f":"A144+1","v":72},161.6,214.40774999999999,{"$f":"D144+1","v":72},161.6]
[73,163.4,223.04208,73,163.4]
[74,165.20000000000002,231.6267,74,165.20000000000002]
[75,167,240.16200000000001,75,167]
[76,168.8,250.41127,76,168.8]
[77,170.6,260.60196000000002,77,170.6]
[78,172.4,270.73464999999999,78,172.4]
[79,174.20000000000002,280.80975000000001,79,174.20000000000002]
[80,176,290.82781999999997,80,176]
[81,177.8,302.78429999999997,81,177.8]
[82,179.6,314.67345999999998,82,179.6]
[83,181.4,326.49581999999998,83,181.4]
[84,183.20000000000002,338.25198,84,183.20000000000002]
[85,185,349.9425,85,185]
[86,186.8,363.82477,86,186.8]
[87,188.6,377.62997000000001,87,188.6]
[88,190.4,391.35872999999998,88,190.4]
[89,192.20000000000002,405.01163000000003,89,192.20000000000002]
[90,194,418.58931999999999,90,194]
[91,195.8,434.59215999999998,91,195.8]
[92,197.6,450.50729999999999,92,197.6]
[93,199.4,466.33550000000002,93,199.4]
[94,201.20000000000002,482.07747999999998,94,201.20000000000002]
[95,203,497.73397999999997,95,203]
[96,204.8,516.17065000000002,96,204.8]
[97,206.6,534.5077,97,206.6]
[98,208.4,552.74585000000002,98,208.4]
[99,210.20000000000002,570.88610000000006,99,210.20000000000002]
[100,212,588.92899999999997,100,212]
[101,213.8,609.85289999999998,101,213.8]
[102,215.6,630.66516000000001,102,215.6]
[103,217.4,651.36680000000001,103,217.4]
[104,219.20000000000002,671.95870000000002,104,219.20000000000002]
[105,221,692.44164999999998,105,221]
[106,222.8,716.31479999999999,106,222.8]
[107,224.6,740.06230000000005,107,224.6]
[108,226.4,763.68524000000002,108,226.4]
[109,228.20000000000002,787.18460000000005,109,228.20000000000002]
[110,230,810.56119999999999,110,230]
[111,231.8,837.51710000000003,111,231.8]
[112,233.6,864.3329,112,233.6]
[113,235.4,891.00995,113,235.4]
[114,237.20000000000002,917.54912999999999,114,237.20000000000002]
[115,239,943.95159999999998,115,239]
[116,240.8,974.31726000000003,116,240.8]
[117,242.6,1004.5273,117,242.6]
[118,244.4,1034.5827999999999,118,244.4]
[119,246.20000000000002,1064.4851000000001,119,246.20000000000002]
[120,248,1094.2352000000001,120,248]
[121,249.8,1129.7260000000001,121,249.8]
[{"$f":"A194+1","v":122},251.6,1165.0372,{"$f":"D194+1","v":122},251.6]
[123,{"$f":"32+((9/5)*A196)","v":253.4},1200.1702,{"$f":"D195+1","v":123},{"$f":"32+((9/5)*D196)","v":253.4}]
[124,255.20000000000002,1235.126,124,255.20000000000002]
[125,257,1269.9060999999999,125,257]
[126,258.8,1304.5119999999999,126,258.8]
[127,260.60000000000002,1338.9448,127,260.60000000000002]
[128,262.39999999999998,1375.7065,128,262.39999999999998]
[129,264.20000000000005,1413.9480000000001,129,264.20000000000005]
[130,266,1451.9992999999999,130,266]
[131,267.8,1493.5723,131,267.8]
[132,269.60000000000002,1534.9401,132,269.60000000000002]
[133,271.39999999999998,1576.1034999999999,133,271.39999999999998]
[134,273.20000000000005,1619.2764999999999,134,273.20000000000005]
[135,275,1664.9349,135,275]
[{"$f":"A208+1","v":136},276.8,1710.37,{"$f":"D208+1","v":136},276.8]
[{"$f":"A209+1","v":137},278.60000000000002,1755.5836999999999,{"$f":"D209+1","v":137},278.60000000000002]
[{"$f":"A210+1","v":138},280.39999999999998,1800.5773999999999,{"$f":"D210+1","v":138},280.39999999999998]
[{"$f":"A211+1","v":139},282.20000000000005,1845.8402000000001,{"$f":"D211+1","v":139},282.20000000000005]
[{"$f":"A212+1","v":140},284,1895.2593999999999,{"$f":"D212+1","v":140},284]